BEGIN:VCALENDAR
VERSION:2.0
PRODID:icalendar-ruby
CALSCALE:GREGORIAN
METHOD:PUBLISH
BEGIN:VEVENT
DTSTAMP:20260423T012641Z
UID:5-402243@mypursuitacademy.com
DTSTART:20260913T140000Z
DTEND:20260913T150000Z
CLASS:PUBLIC
CREATED:20260422T201906
DESCRIPTION:Sunday Worship
LAST-MODIFIED:20260422T201906
LOCATION:
SUMMARY:Sunday Worship
URL;VALUE=URI:https://www.mypursuitacademy.com/events/sunday-worship/2026-0
 9-13
END:VEVENT
END:VCALENDAR
