BEGIN:VCALENDAR
VERSION:2.0
PRODID:icalendar-ruby
CALSCALE:GREGORIAN
METHOD:PUBLISH
BEGIN:VEVENT
DTSTAMP:20260423T031823Z
UID:5-402505@mypursuitacademy.com
DTSTART:20260920T140000Z
DTEND:20260920T150000Z
CLASS:PUBLIC
CREATED:20260422T231331
DESCRIPTION:Sunday Worship
LAST-MODIFIED:20260422T231331
LOCATION:
SUMMARY:Sunday Worship
URL;VALUE=URI:https://www.mypursuitacademy.com/events/sunday-worship/2026-0
 9-20
END:VEVENT
END:VCALENDAR
