BEGIN:VCALENDAR
VERSION:2.0
PRODID:icalendar-ruby
CALSCALE:GREGORIAN
METHOD:PUBLISH
BEGIN:VEVENT
DTSTAMP:20260423T092937Z
UID:5-402508@mypursuitacademy.com
DTSTART:20261011T140000Z
DTEND:20261011T150000Z
CLASS:PUBLIC
CREATED:20260422T231331
DESCRIPTION:Sunday Worship
LAST-MODIFIED:20260422T231331
LOCATION:
SUMMARY:Sunday Worship
URL;VALUE=URI:https://www.mypursuitacademy.com/events/sunday-worship/2026-1
 0-11
END:VEVENT
END:VCALENDAR
