BEGIN:VCALENDAR
VERSION:2.0
PRODID:icalendar-ruby
CALSCALE:GREGORIAN
METHOD:PUBLISH
BEGIN:VEVENT
DTSTAMP:20260423T130309Z
UID:5-402771@mypursuitacademy.com
DTSTART:20261025T140000Z
DTEND:20261025T150000Z
CLASS:PUBLIC
CREATED:20260423T084347
DESCRIPTION:Sunday Worship
LAST-MODIFIED:20260423T084347
LOCATION:
SUMMARY:Sunday Worship
URL;VALUE=URI:https://www.mypursuitacademy.com/events/sunday-worship/2026-1
 0-25
END:VEVENT
END:VCALENDAR
