BEGIN:VCALENDAR
VERSION:2.0
PRODID:icalendar-ruby
CALSCALE:GREGORIAN
METHOD:PUBLISH
BEGIN:VEVENT
DTSTAMP:20260423T150022Z
UID:5-402772@mypursuitacademy.com
DTSTART:20261101T150000Z
DTEND:20261101T160000Z
CLASS:PUBLIC
CREATED:20260423T084347
DESCRIPTION:Sunday Worship
LAST-MODIFIED:20260423T084347
LOCATION:
SUMMARY:Sunday Worship
URL;VALUE=URI:https://www.mypursuitacademy.com/events/sunday-worship/2026-1
 1-01
END:VEVENT
END:VCALENDAR
